BEGIN:VCALENDAR
VERSION:2.0
PRODID:-//KansasAuctions.net v1//EN
BEGIN:VEVENT
DTSTAMP:20260421T031150Z
STATUS:CONFIRMED
UID:276d6545ede0a9abef4a9c19c2987988@KansasAuctions.net
DTSTART:20260516T150000Z
DTEND:20260516T160000Z
SUMMARY:Antique Auction - Thummel Real Estate & Auction LLC
DESCRIPTION:Harley Davidson, Coca Cola, Collectables
  https://www.kansasauctions.net/calendar/thummel/70175/
LOCATION:900 Greeley Salina, KS
TRANSP:OPAQUE
END:VEVENT
END:VCALENDAR