BEGIN:VCALENDAR
VERSION:2.0
PRODID:-//KansasAuctions.net v1//EN
BEGIN:VEVENT
DTSTAMP:20260422T074136Z
STATUS:CONFIRMED
UID:cfdc34685161d38d24337a82fec04beb@KansasAuctions.net
DTSTART:20260425T150000Z
DTEND:20260425T160000Z
SUMMARY:Public Auction - Baxa Auctions, LLC
DESCRIPTION:Truck, Skid Steer, Mowers, Equipment & Power Tools, Fishing
  Boat w/ Trailer + Motor, Generator, Diesel Space Heaters, RAM Electric A
  Frame Jack
  https://www.kansasauctions.net/calendar/baxa/70086/
LOCATION:439 S Broadway Salina, KS
TRANSP:OPAQUE
END:VEVENT
END:VCALENDAR