BEGIN:VCALENDAR
VERSION:2.0
PRODID:-//KansasAuctions.net v1//EN
BEGIN:VEVENT
DTSTAMP:20260422T073716Z
STATUS:CONFIRMED
UID:1606077599b3b8fb3c350b62b45823f5@KansasAuctions.net
DTSTART:20260425T150000Z
DTEND:20260425T160000Z
SUMMARY:Farm Machinery Auction - Thummel Real Estate & Auction LLC
DESCRIPTION:Tractors, Combine, Pickups, Car & Trucks, Mower, 4 Wheeler,
  Machinery & Tools
  https://www.kansasauctions.net/calendar/thummel/70028/
LOCATION:1400 N Lightville Rd Salina, KS
TRANSP:OPAQUE
END:VEVENT
END:VCALENDAR