BEGIN:VCALENDAR
VERSION:2.0
PRODID:-//KansasAuctions.net v1//EN
BEGIN:VEVENT
DTSTAMP:20260422T073942Z
STATUS:CONFIRMED
UID:b8f0fec3f56aa8ecd53b2d39d373af58@KansasAuctions.net
DTSTART:20260425T150000Z
DTEND:20260425T160000Z
SUMMARY:Personal Property Auction - Olmsted Real Estate & Auctions
DESCRIPTION:Tractors & Machinery, Tools, Lawn & Garden, Guns, Collectibles,
  Household
  https://www.kansasauctions.net/calendar/olmsted/69996/
LOCATION:1396 Limestone Rd Marysville, KS
TRANSP:OPAQUE
END:VEVENT
END:VCALENDAR