BEGIN:VCALENDAR
VERSION:2.0
PRODID:-//KansasAuctions.net v1//EN
BEGIN:VEVENT
DTSTAMP:20260422T175544Z
STATUS:CONFIRMED
UID:b4d8bd1f331ffbcea4c5fe79ca0cb0dc@KansasAuctions.net
DTSTART:20260130T010000Z
DTEND:20260130T020000Z
SUMMARY:Online Auction - Wiens Auction/Realty LLC
DESCRIPTION:Vintage ~ Antiques ~ Signs ~ Car Parts ~ and More
  https://www.kansasauctions.net/calendar/wiens/69448/
LOCATION:319 N Washington Ave Wellington, KS
TRANSP:OPAQUE
END:VEVENT
END:VCALENDAR