BEGIN:VCALENDAR
VERSION:2.0
PRODID:-//KansasAuctions.net v1//EN
BEGIN:VEVENT
DTSTAMP:20260421T173623Z
STATUS:CONFIRMED
UID:79b5e7112f16416ef39159974516ad25@KansasAuctions.net
DTSTART:20251215T010000Z
DTEND:20251215T020000Z
SUMMARY:Equip-Bid Auction - Equip-Bid
DESCRIPTION:Oz Deals December Farm and Construction Auction ~ Ford 861
  Diesel Tractor w/ Land Pride Brush Hog ~ Telehandlers ~ 2021 Caterpillar
  Excavator ~ Golf Carts ~ A Large Variety of Mini Excavators & Much More!!
  https://www.kansasauctions.net/calendar/equipbid/69136/
LOCATION:820 6th St Osawatomie, KS
TRANSP:OPAQUE
END:VEVENT
END:VCALENDAR