BEGIN:VCALENDAR
VERSION:2.0
PRODID:-//KansasAuctions.net v1//EN
BEGIN:VEVENT
DTSTAMP:20260422T182854Z
STATUS:CONFIRMED
UID:ac65e60493411dd3f964bbbdcb6b0c5d@KansasAuctions.net
DTSTART:20251014T210000Z
DTEND:20251014T220000Z
SUMMARY:The Merkel Estate Auction - Generations Real Estate & Auction
DESCRIPTION:Woodworking Items, Hand & Power Tools, Project Wood, Variety of
  Drills, Tool Chests, Metal Lathe, Variety of Saws, Ladders, Storage
  Shelving, Construction Tools, Hobart Welder, Stihl, Craftsman, Milwaukee,
  Cummins, DeWalt, Sears, Generators, Coleman, Whirlpool Fridge, Clay
  Thrower, Camping Items, Lawn & Garden, Honda Push Mower, Bad Boy Riding
  Mower, Automotive Items, Ramps, Single Axle Trailer, 2014 Ford Escape SE
  and Much, Much More!
  https://www.kansasauctions.net/calendar/genkc/68522/
LOCATION:8921 N Charlotte Kansas City, MO
TRANSP:OPAQUE
END:VEVENT
END:VCALENDAR