BEGIN:VCALENDAR
VERSION:2.0
PRODID:-//KansasAuctions.net v1//EN
BEGIN:VEVENT
DTSTAMP:20260421T175456Z
STATUS:CONFIRMED
UID:cad8a19a0c9e83cdc29fa59a9f3dbd59@KansasAuctions.net
DTSTART:20250924T190000Z
DTEND:20250924T200000Z
SUMMARY:Storage Unit Auction - Legacy Auction Group
DESCRIPTION:PODS of Kansas City Storage Vault Auction. 5+/- Units in
  Grandview, MO.
  https://www.kansasauctions.net/calendar/chapin/68348/
LOCATION:14220 Norby Rd Grandview, MO
TRANSP:OPAQUE
END:VEVENT
END:VCALENDAR