BEGIN:VCALENDAR
VERSION:2.0
PRODID:-//KansasAuctions.net v1//EN
BEGIN:VEVENT
DTSTAMP:20260419T141846Z
STATUS:CONFIRMED
UID:5be6c4790d03f2c1bd700e9ad5bbccbb@KansasAuctions.net
DTSTART:20250920T140000Z
DTEND:20250920T150000Z
SUMMARY:Public Auction - Branden Otto Auctioneering
DESCRIPTION:Tractors, Lawn Tractor & Mowers, Skid Loaders & Attachments,
  Trailers, Buggies & Horse Related, ATV, UTVs, Trucks, Motor, Hay, Farm,
  Cattle & Shop Equipment, Primitives, Furniture, Household, Outdoor
  https://www.kansasauctions.net/calendar/otto/68061/
LOCATION:4308 Utah Rd Wellsville, KS
TRANSP:OPAQUE
END:VEVENT
END:VCALENDAR