BEGIN:VCALENDAR
VERSION:2.0
PRODID:-//KansasAuctions.net v1//EN
BEGIN:VEVENT
DTSTAMP:20260425T170220Z
STATUS:CONFIRMED
UID:33ce53ac0ad7332e7a2774594baeaca9@KansasAuctions.net
DTSTART:20250902T150300Z
DTEND:20250902T160300Z
SUMMARY:Auto Auction - Hiatt Auction LLC
DESCRIPTION:Alandon Tow Online Auto Auction
  https://www.kansasauctions.net/calendar/hiatt/68038/
LOCATION:6224 Kansas Ave Kansas City, KS
TRANSP:OPAQUE
END:VEVENT
END:VCALENDAR