BEGIN:VCALENDAR
VERSION:2.0
PRODID:-//KansasAuctions.net v1//EN
BEGIN:VEVENT
DTSTAMP:20260419T141750Z
STATUS:CONFIRMED
UID:f354e50addcfbcdb957d4cc3169ff721@KansasAuctions.net
DTSTART:20250503T150000Z
DTEND:20250503T160000Z
SUMMARY:Estate Auction - Branden Otto Auctioneering
DESCRIPTION:Vehicles, Scooter, Car & Truck Parts, Scrap, Forklift, Tool
  Box, Tools, Shop Equipment, Storage Shed, Yard Art, Miscellaneous
  https://www.kansasauctions.net/calendar/otto/66961/
LOCATION:3920 N 59 Hwy Ottawa, KS
TRANSP:OPAQUE
END:VEVENT
END:VCALENDAR