BEGIN:VCALENDAR
VERSION:2.0
PRODID:-//KansasAuctions.net v1//EN
BEGIN:VEVENT
DTSTAMP:20260423T165831Z
STATUS:CONFIRMED
UID:1b04d19132dba8af29917dded2d18633@KansasAuctions.net
DTSTART:20241228T170000Z
DTEND:20241228T180000Z
SUMMARY:Real Estate Auction - Kooser Auction Service
DESCRIPTION:A private event center to be auctioned, offers a unique
  opportunity to own a versatile venue ideal for weddings, corporate events
  and social gatherings. Ample parking, customizable interior to suit various
  event types. Outdoor/patio space and large kitchen. Cabin. On site storage.
  https://www.kansasauctions.net/calendar/kooser/65839/
LOCATION:240 E 8th Auburn, KS
TRANSP:OPAQUE
END:VEVENT
END:VCALENDAR