BEGIN:VCALENDAR
VERSION:2.0
PRODID:-//KansasAuctions.net v1//EN
BEGIN:VEVENT
DTSTAMP:20260419T143416Z
STATUS:CONFIRMED
UID:01b914d934e5d0c99d98ac38b39f73dd@KansasAuctions.net
DTSTART:20241116T160000Z
DTEND:20241116T170000Z
SUMMARY:Public Auction - Branden Otto Auctioneering
DESCRIPTION:UTV Side-By-Side, Mowers, Outdoors, Skid Loader, Backhoe, Dump
  Truck, Forklift, More, Tractor, Farm Relater Equipment, Cabinet Shop
  Equipment, Tools & Supplies, Generator, Industrial Shop Equipment, Tools,
  Yard, Outdoors, Collectibles
  https://www.kansasauctions.net/calendar/otto/65552/
LOCATION:Wellsville, KS
TRANSP:OPAQUE
END:VEVENT
END:VCALENDAR