BEGIN:VCALENDAR
VERSION:2.0
PRODID:-//KansasAuctions.net v1//EN
BEGIN:VEVENT
DTSTAMP:20260424T175110Z
STATUS:CONFIRMED
UID:5f14089db38d159988d8c8084b46b6f1@KansasAuctions.net
DTSTART:20240928T150000Z
DTEND:20240928T160000Z
SUMMARY:Public Auction - LG Auction Company
DESCRIPTION:Antiques, Guns, Shop, Trailer, Misc
  https://www.kansasauctions.net/calendar/lg/64989/
LOCATION:16 Main St Sabetha, KS
TRANSP:OPAQUE
END:VEVENT
END:VCALENDAR