BEGIN:VCALENDAR
VERSION:2.0
PRODID:-//KansasAuctions.net v1//EN
BEGIN:VEVENT
DTSTAMP:20260423T172943Z
STATUS:CONFIRMED
UID:bb930cdfd442ce49a5b06eb7cdd9f2ac@KansasAuctions.net
DTSTART:20240513T140000Z
DTEND:20240513T150000Z
SUMMARY:Farm Machinery & Equipment Consignment Auction - Cook Auction Co.
DESCRIPTION:Tractors, Industrial Equipment, Trailers, Hay Tools, Rotary
  Cutters, Loaders, Discs, Cultivators, Rippers, Plows, Planters, Drills,
  Grinder Mixers, Combines, Manure Spreaders, Grain Tables, & More!
  https://www.kansasauctions.net/calendar/cook/63255/
LOCATION:203 NW 160 Rd Clinton, MO
TRANSP:OPAQUE
END:VEVENT
END:VCALENDAR