BEGIN:VCALENDAR
VERSION:2.0
PRODID:-//KansasAuctions.net v1//EN
BEGIN:VEVENT
DTSTAMP:20260424T175051Z
STATUS:CONFIRMED
UID:9fc27a9f529e905880b94918d689e737@KansasAuctions.net
DTSTART:20240316T150000Z
DTEND:20240316T160000Z
SUMMARY:Public Auction - LG Auction Company
DESCRIPTION:Shop, Misc & Collectibles, Equipment & Trailers, Fencing Items
  & Livestock Items
  https://www.kansasauctions.net/calendar/lg/62837/
LOCATION:63716 705 Rd Dawson, NE
TRANSP:OPAQUE
END:VEVENT
END:VCALENDAR