BEGIN:VCALENDAR
VERSION:2.0
PRODID:-//KansasAuctions.net v1//EN
BEGIN:VEVENT
DTSTAMP:20260423T172936Z
STATUS:CONFIRMED
UID:a1259b4c27e106464ff398188c3d2c4a@KansasAuctions.net
DTSTART:20240108T150000Z
DTEND:20240108T160000Z
SUMMARY:Farm Machinery & Equipment Consignment Auction - Cook Auction Co.
DESCRIPTION:Tractors, Industrial Equipment, Trailers, Hay Tools, Rotary
  Cutters, Loaders, Discs, Cultivators, Rippers, Plows, Planters, Drills,
  Grinder Mixers, Combines, Manure Spreaders, Grain Tables, & More!
  https://www.kansasauctions.net/calendar/cook/62276/
LOCATION:203 NW 160 Rd Clinton, MO
TRANSP:OPAQUE
END:VEVENT
END:VCALENDAR