BEGIN:VCALENDAR
VERSION:2.0
PRODID:-//KansasAuctions.net v1//EN
BEGIN:VEVENT
DTSTAMP:20260420T160153Z
STATUS:CONFIRMED
UID:a8b41ee6548ded524ff8c26e3cb6c3cb@KansasAuctions.net
DTSTART:20230830T210000Z
DTEND:20230830T220000Z
SUMMARY:Online Auction - Dennis Wendt Auctioneer
DESCRIPTION:Barbie's, Native Am. Dolls & Plates, Elvis Collectibles
  https://www.kansasauctions.net/calendar/wendt/60987/
LOCATION:Paola, KS
TRANSP:OPAQUE
END:VEVENT
END:VCALENDAR