BEGIN:VCALENDAR
VERSION:2.0
PRODID:-//KansasAuctions.net v1//EN
BEGIN:VEVENT
DTSTAMP:20260421T172515Z
STATUS:CONFIRMED
UID:88d0042d92e5108584f6dcc644d383ce@KansasAuctions.net
DTSTART:20230430T170000Z
DTEND:20230430T180000Z
SUMMARY:2 Day Auction - BB Realty & Auctions
DESCRIPTION:Antiques & Collectibles Louisburg Live Auction
  https://www.kansasauctions.net/calendar/busybeever/59911/
LOCATION:7099 W 295th Louisburg, KS
TRANSP:OPAQUE
END:VEVENT
END:VCALENDAR