BEGIN:VCALENDAR
VERSION:2.0
PRODID:-//KansasAuctions.net v1//EN
BEGIN:VEVENT
DTSTAMP:20260424T171438Z
STATUS:CONFIRMED
UID:877af5b276b0668dc2360d62672cb07f@KansasAuctions.net
DTSTART:20230309T010000Z
DTEND:20230309T020000Z
SUMMARY:Online Auction - Gold River Auction
DESCRIPTION:Vintage Pocket Knife Collection (Case, Buck, Keen Kutter etc.),
  Coins (Collectible US, Silver Maple Leafs, Silver Foreign), Primitive Wood
  Chest, Militaria (German Helmut, NVA belts, Uniforms), Silver Jewelry,
  Perfumes, Collectible 33 rpm Records, Antique Peters & Reed, Antique
  Railroad Switch Lock keys, Vintage Marbles, Nice Bayonets, BOOKS antique &
  collectible,
  https://www.kansasauctions.net/calendar/goldriver/58970/
LOCATION:505 E Kansas City Rd Olathe, KS
TRANSP:OPAQUE
END:VEVENT
END:VCALENDAR