BEGIN:VCALENDAR
VERSION:2.0
PRODID:-//KansasAuctions.net v1//EN
BEGIN:VEVENT
DTSTAMP:20260420T154524Z
STATUS:CONFIRMED
UID:8ba09b8c000f5ac3184aefaab36138aa@KansasAuctions.net
DTSTART:20221112T150000Z
DTEND:20221112T160000Z
SUMMARY:Estate Auction - Larry Johnston Agency
DESCRIPTION:Furniture & Appliances, Antique & Collectible, Dept. 56, Shop &
  Yard, Misc
  https://www.kansasauctions.net/calendar/johnston/57685/
LOCATION:4 H Building Garden City, KS
TRANSP:OPAQUE
END:VEVENT
END:VCALENDAR