BEGIN:VCALENDAR
VERSION:2.0
PRODID:-//KansasAuctions.net v1//EN
BEGIN:VEVENT
DTSTAMP:20260423T202433Z
STATUS:CONFIRMED
UID:57dfb13c67d6f5135c9e709ed2774b7e@KansasAuctions.net
DTSTART:20221114T150000Z
DTEND:20221114T160000Z
SUMMARY:Farm Machinery & Equipment Consignment Auction - Cook Auction Co.
DESCRIPTION:Monthly Farm Machinery Consignment Auction: Tractors,
  Industrial Equipment, Trailers, Hay Tools, Rotary Cutters, Loaders, Discs,
  Cultivators, Rippers, Plows, Planters, Drills, Grinder Mixers, Combines,
  Manure Spreaders, Grain Tables, & More!
  https://www.kansasauctions.net/calendar/cook/57458/
LOCATION:203 NW 160 Rd Clinton, MO
TRANSP:OPAQUE
END:VEVENT
END:VCALENDAR