BEGIN:VCALENDAR
VERSION:2.0
PRODID:-//KansasAuctions.net v1//EN
BEGIN:VEVENT
DTSTAMP:20260419T144805Z
STATUS:CONFIRMED
UID:0b04e520e4c02b2cca81e10d8463ffa5@KansasAuctions.net
DTSTART:20220917T143000Z
DTEND:20220917T153000Z
SUMMARY:Farm Auction - Harris Real Estate & Auction, LLC
DESCRIPTION:Tractors, Dozers, Track Hoe & Lowboy, Trucks & Trailers,
  Machinery, Combines, Headers & Harvest Equipment, Chemical & Fertilizer
  Equipment, Hay & Equipment, Misc.
  https://www.kansasauctions.net/calendar/harris/56571/
LOCATION:25662 Limit Rd Winchester, KS
TRANSP:OPAQUE
END:VEVENT
END:VCALENDAR