BEGIN:VCALENDAR
VERSION:2.0
PRODID:-//KansasAuctions.net v1//EN
BEGIN:VEVENT
DTSTAMP:20260419T143349Z
STATUS:CONFIRMED
UID:d2687c5558baecdfba5f8978acf8a2e6@KansasAuctions.net
DTSTART:20220618T140000Z
DTEND:20220618T150000Z
SUMMARY:Estate Auction - Branden Otto Auctioneering
DESCRIPTION:Cars & Van, Trucks, Jeeps, 4-Wheelers & Motorcycles, Shop
  Equipment, License Tags & Related, Many Types & Large Quantity of Parts &
  Motors
  https://www.kansasauctions.net/calendar/otto/55544/
LOCATION:18150 W 263rd St Paola, KS
TRANSP:OPAQUE
END:VEVENT
END:VCALENDAR