BEGIN:VCALENDAR
VERSION:2.0
PRODID:-//KansasAuctions.net v1//EN
BEGIN:VEVENT
DTSTAMP:20260424T001931Z
STATUS:CONFIRMED
UID:f601825a0e55f542498c874a5325e020@KansasAuctions.net
DTSTART:20220423T150000Z
DTEND:20220423T160000Z
SUMMARY:Machinery & Equipment Auction - Thummel Real Estate & Auction LLC
DESCRIPTION:Sprayer, Combine, Tractors, Swather, Excavator & Skid Loader,
  Semi Tractor & Trailers, Trucks & Trailers, Machinery, Hay & Cattle
  Equipment
  https://www.kansasauctions.net/calendar/thummel/54616/
LOCATION:Smith Center, KS
TRANSP:OPAQUE
END:VEVENT
END:VCALENDAR