BEGIN:VCALENDAR
VERSION:2.0
PRODID:-//KansasAuctions.net v1//EN
BEGIN:VEVENT
DTSTAMP:20260420T154712Z
STATUS:CONFIRMED
UID:5aca3c98097dc3f7e6146b99daa23dfd@KansasAuctions.net
DTSTART:20220301T190000Z
DTEND:20220301T200000Z
SUMMARY:Real Estate Auction - Cates Auction & Realty Co., Inc.
DESCRIPTION:Welcome home to this beautifully designed &
  meticulously-maintained, 3-bed 1-bath Bungalow. Updated kitchen,
  stainless-steel appliances. Updated bathroom. Finished basement, workshop,
  downstairs Laundry. 1-car garage w/ additional storage space. Landscaped
  backyard w/ large patio and newer Tuff Shed. Comes with a one year home
  warranty.
  https://www.kansasauctions.net/calendar/cates/54245/
LOCATION:634 NE 42nd St Kansas City, MO
TRANSP:OPAQUE
END:VEVENT
END:VCALENDAR