BEGIN:VCALENDAR
VERSION:2.0
PRODID:-//KansasAuctions.net v1//EN
BEGIN:VEVENT
DTSTAMP:20260424T143838Z
STATUS:CONFIRMED
UID:04314d3722440720fe76d00ea00b4984@KansasAuctions.net
DTSTART:20210713T000000Z
DTEND:20210713T010000Z
SUMMARY:Estate Auction - Soulis Auctions
DESCRIPTION:The Susie Vawter Estate Auction on Warwick Boulevard. Large &
  Interesting Lots of Antiques, Decorative Arts & Collectibles.
  https://www.kansasauctions.net/calendar/soulis/50157/
LOCATION:4526 Warwick Blvd Kansas City, MO
TRANSP:OPAQUE
END:VEVENT
END:VCALENDAR