BEGIN:VCALENDAR
VERSION:2.0
PRODID:-//KansasAuctions.net v1//EN
BEGIN:VEVENT
DTSTAMP:20260421T175645Z
STATUS:CONFIRMED
UID:9ac5ba8c27a97059a5e0cf591f2168d2@KansasAuctions.net
DTSTART:20190819T140000Z
DTEND:20190819T150000Z
SUMMARY:Storage Unit Auction - RS Auction Service
DESCRIPTION:Contents of units A002, B011, C08, D004 & D006
  https://www.kansasauctions.net/calendar/rsauction/38960/
LOCATION:4035 NE Seward Ave Topeka, KS
TRANSP:OPAQUE
END:VEVENT
END:VCALENDAR