BEGIN:VCALENDAR
VERSION:2.0
PRODID:-//KansasAuctions.net v1//EN
BEGIN:VEVENT
DTSTAMP:20260420T170526Z
STATUS:CONFIRMED
UID:7d8bf9903bca56dd1135d004a436fcb1@KansasAuctions.net
DTSTART:20180814T010000Z
DTEND:20180814T020000Z
SUMMARY:Farm Auction - Cates Auction & Realty Co., Inc.
DESCRIPTION:2007 John Deere Tractor & Loader, Implements, Stock Trailer,
  Hay Rake & More
  https://www.kansasauctions.net/calendar/cates/34423/
LOCATION:Kearney, MO
TRANSP:OPAQUE
END:VEVENT
END:VCALENDAR